BEGIN:VCALENDAR
VERSION:2.0
PRODID:-//Aqua Fit - ECPv6.15.18//NONSGML v1.0//EN
CALSCALE:GREGORIAN
METHOD:PUBLISH
X-ORIGINAL-URL:https://aqua-fit.org
X-WR-CALDESC:Veranstaltungen für Aqua Fit
REFRESH-INTERVAL;VALUE=DURATION:PT1H
X-Robots-Tag:noindex
X-PUBLISHED-TTL:PT1H
BEGIN:VTIMEZONE
TZID:Europe/Vienna
BEGIN:DAYLIGHT
TZOFFSETFROM:+0100
TZOFFSETTO:+0200
TZNAME:CEST
DTSTART:20240331T010000
END:DAYLIGHT
BEGIN:STANDARD
TZOFFSETFROM:+0200
TZOFFSETTO:+0100
TZNAME:CET
DTSTART:20241027T010000
END:STANDARD
BEGIN:DAYLIGHT
TZOFFSETFROM:+0100
TZOFFSETTO:+0200
TZNAME:CEST
DTSTART:20250330T010000
END:DAYLIGHT
BEGIN:STANDARD
TZOFFSETFROM:+0200
TZOFFSETTO:+0100
TZNAME:CET
DTSTART:20251026T010000
END:STANDARD
BEGIN:DAYLIGHT
TZOFFSETFROM:+0100
TZOFFSETTO:+0200
TZNAME:CEST
DTSTART:20260329T010000
END:DAYLIGHT
BEGIN:STANDARD
TZOFFSETFROM:+0200
TZOFFSETTO:+0100
TZNAME:CET
DTSTART:20261025T010000
END:STANDARD
END:VTIMEZONE
BEGIN:VEVENT
DTSTART;TZID=Europe/Vienna:20250429T173000
DTEND;TZID=Europe/Vienna:20250429T182000
DTSTAMP:20260425T133513
CREATED:20250214T221956Z
LAST-MODIFIED:20250730T123811Z
UID:10000028-1745947800-1745950800@aqua-fit.org
SUMMARY:AQUAgymstick & More
DESCRIPTION:Training mit Geräten steigert deine Kraft\, Ausdauer und Koordination.\nZur Unterstützung bei Rücken- und Gelenksproblemen.\nDer AQUAgymstick ist ideal für dich\, wenn du unter Arthritis\, Rückenschmerzen\, Gelenksproblemen oder Übergewicht leidest. Diese Trainingsmethode bietet ein vielseitiges Programm\, das nicht nur deine Kraftausdauer und Koordination verbessert\, sondern auch richtig Spaß macht! Perfekt\, um fit zu werden und deinem Körper etwas Gutes zu tun.
URL:https://aqua-fit.org/kurs/aquagymstick-more-2/2025-04-29/
LOCATION:Bad zur Sonne\, Feuerbachgasse 11-13\, Graz\, Steiermark\, 8020\, Österreich
CATEGORIES:AQUAgymstick & More,Bad zur Sonne,Flachwasser
ATTACH;FMTTYPE=image/png:https://aqua-fit.org/wp-content/uploads/2024/11/BzS_AQUAgymstic_512px.png
ORGANIZER;CN="Fa. Helena Cizerl%2C MA":MAILTO:info@aqua-fit.org
GEO:47.0696933;15.4317243
X-APPLE-STRUCTURED-LOCATION;VALUE=URI;X-ADDRESS=Bad zur Sonne Feuerbachgasse 11-13 Graz Steiermark 8020 Österreich;X-APPLE-RADIUS=500;X-TITLE=Feuerbachgasse 11-13:geo:15.4317243,47.0696933
END:VEVENT
BEGIN:VEVENT
DTSTART;TZID=Europe/Vienna:20250428T180000
DTEND;TZID=Europe/Vienna:20250428T185000
DTSTAMP:20260425T133513
CREATED:20250214T234331Z
LAST-MODIFIED:20250303T170107Z
UID:10004481-1745863200-1745866200@aqua-fit.org
SUMMARY:Aqua Fit & Fun
DESCRIPTION:Fitness und Spaß im Wasser – gelenkschonend\, effektiv und ganzheitlich\nDieses gelenkschonende Herz-Kreislauftraining stärkt dein Bindegewebe und kombiniert gezielte Kräftigung mit einem ganzheitlichen Ansatz. Im Fokus stehen der Aufbau wichtiger Muskelgruppen\, die Verbesserung von Koordination\, Balance und Gleichgewicht – essenziell für einen starken und beweglichen Körper im Alltag. Gleichzeitig genießt du die wohltuende Wirkung des Wassers und lässt den Alltagsstress hinter dir.
URL:https://aqua-fit.org/kurs/aqua-fit-fun-2/2025-04-28/
LOCATION:Sportzentrum Pachern\, Pachern Hauptstraße 94\, Hart bei Graz\, Steiermark\, 8075\, Österreich
CATEGORIES:Aqua Fit & Fun,Sportzentrum Pachern
ATTACH;FMTTYPE=image/png:https://aqua-fit.org/wp-content/uploads/2024/11/SP-fun_512px.png
ORGANIZER;CN="Fa. Helena Cizerl%2C MA":MAILTO:info@aqua-fit.org
GEO:47.0447357;15.5208589
X-APPLE-STRUCTURED-LOCATION;VALUE=URI;X-ADDRESS=Sportzentrum Pachern Pachern Hauptstraße 94 Hart bei Graz Steiermark 8075 Österreich;X-APPLE-RADIUS=500;X-TITLE=Pachern Hauptstraße 94:geo:15.5208589,47.0447357
END:VEVENT
BEGIN:VEVENT
DTSTART;TZID=Europe/Vienna:20250428T130000
DTEND;TZID=Europe/Vienna:20250428T140000
DTSTAMP:20260425T133513
CREATED:20250214T231537Z
LAST-MODIFIED:20250220T082041Z
UID:10002909-1745845200-1745848800@aqua-fit.org
SUMMARY:AQUA Fitness Routinen
DESCRIPTION:AQUA Fitness Routinen – Bewegung\, die Spaß macht und fit hält\nTauche ein in ein sanftes\, effektives Training im Flachwasser\, das Freude an der Bewegung neu entfacht. Unsere AQUA Fitness Routinen kombinieren leichte\, funktionelle Bewegungen\, die die Gelenke entlasten und die Muskulatur stärken. Der natürliche Widerstand des Wassers sorgt für ein gezieltes Ganzkörpertraining\, während der Auftrieb ein Gefühl von Schwerelosigkeit vermittelt. \nIdeal für alle\, die ihre Mobilität verbessern\, Schmerzen reduzieren oder einfach wieder aktiv werden möchten – ob in der Rehabilitation oder zur allgemeinen Gesundheitsförderung. Genieße das Training im Flachwasser und spüre\, wie gut es tut\, sich schmerzfrei und vital zu bewegen!
URL:https://aqua-fit.org/kurs/aqua-fitness-routinen-2/2025-04-28/
LOCATION:Union Bad\, Gaußgasse 3\, Graz\, Steiermark\, 8010\, Österreich
CATEGORIES:AQUA Fitness Routinen,Union Bad
ATTACH;FMTTYPE=image/png:https://aqua-fit.org/wp-content/uploads/2024/11/Union-Routinen_SL_512px.png
ORGANIZER;CN="Fa. Helena Cizerl%2C MA":MAILTO:info@aqua-fit.org
GEO:47.0731111;15.4587289
X-APPLE-STRUCTURED-LOCATION;VALUE=URI;X-ADDRESS=Union Bad Gaußgasse 3 Graz Steiermark 8010 Österreich;X-APPLE-RADIUS=500;X-TITLE=Gaußgasse 3:geo:15.4587289,47.0731111
END:VEVENT
BEGIN:VEVENT
DTSTART;TZID=Europe/Vienna:20250425T193000
DTEND;TZID=Europe/Vienna:20250425T202000
DTSTAMP:20260425T133513
CREATED:20250214T213018Z
LAST-MODIFIED:20250220T081413Z
UID:10002647-1745609400-1745612400@aqua-fit.org
SUMMARY:AquaFIT BODY Shaping II
DESCRIPTION:Unser vielseitiges Intervalltraining im Wasser bietet dir eine sanfte und gleichzeitig effektive Möglichkeit\, Fett zu reduzieren und Muskeln zu stärken. \nSpüre die Leichtigkeit und den Spaß an der Bewegung – eine perfekte Mischung aus Kraft- und Ausdauertraining\, die nicht nur deine Laune hebt\, sondern auch deinen Körper formt!
URL:https://aqua-fit.org/kurs/aquafit-body-shaping-ii-2/2025-04-25/
LOCATION:Indoor Divecenter\, Premstätterstraße 1\, Seiersberg\, Steiermark\, 8054\, Österreich
CATEGORIES:Aqua Body Shaping II,Tauchturm Seiersberg,Tiefwasser
ATTACH;FMTTYPE=image/png:https://aqua-fit.org/wp-content/uploads/2024/11/TT-Body_Shape2_512px.png
ORGANIZER;CN="Fa. Helena Cizerl%2C MA":MAILTO:info@aqua-fit.org
GEO:47.008427;15.3994115
X-APPLE-STRUCTURED-LOCATION;VALUE=URI;X-ADDRESS=Indoor Divecenter Premstätterstraße 1 Seiersberg Steiermark 8054 Österreich;X-APPLE-RADIUS=500;X-TITLE=Premstätterstraße 1:geo:15.3994115,47.008427
END:VEVENT
END:VCALENDAR