BEGIN:VCALENDAR
VERSION:2.0
PRODID:-//Aqua Fit - ECPv6.15.18//NONSGML v1.0//EN
CALSCALE:GREGORIAN
METHOD:PUBLISH
X-WR-CALNAME:Aqua Fit
X-ORIGINAL-URL:https://aqua-fit.org
X-WR-CALDESC:Veranstaltungen für Aqua Fit
REFRESH-INTERVAL;VALUE=DURATION:PT1H
X-Robots-Tag:noindex
X-PUBLISHED-TTL:PT1H
BEGIN:VTIMEZONE
TZID:Europe/Vienna
BEGIN:DAYLIGHT
TZOFFSETFROM:+0100
TZOFFSETTO:+0200
TZNAME:CEST
DTSTART:20250330T010000
END:DAYLIGHT
BEGIN:STANDARD
TZOFFSETFROM:+0200
TZOFFSETTO:+0100
TZNAME:CET
DTSTART:20251026T010000
END:STANDARD
BEGIN:DAYLIGHT
TZOFFSETFROM:+0100
TZOFFSETTO:+0200
TZNAME:CEST
DTSTART:20260329T010000
END:DAYLIGHT
BEGIN:STANDARD
TZOFFSETFROM:+0200
TZOFFSETTO:+0100
TZNAME:CET
DTSTART:20261025T010000
END:STANDARD
BEGIN:DAYLIGHT
TZOFFSETFROM:+0100
TZOFFSETTO:+0200
TZNAME:CEST
DTSTART:20270328T010000
END:DAYLIGHT
BEGIN:STANDARD
TZOFFSETFROM:+0200
TZOFFSETTO:+0100
TZNAME:CET
DTSTART:20271031T010000
END:STANDARD
END:VTIMEZONE
BEGIN:VEVENT
DTSTART;TZID=Europe/Vienna:20260430T180000
DTEND;TZID=Europe/Vienna:20260430T185000
DTSTAMP:20260426T054710
CREATED:20250731T101803Z
LAST-MODIFIED:20260303T125756Z
UID:10009565-1777572000-1777575000@aqua-fit.org
SUMMARY:Aqua Fit & More
DESCRIPTION:Aqua Fit & More – Fitness\, Spaß und Wohlbefinden im Wasser!\nDieses gelenkschonende und effektive Herz-Kreislauftraining stärkt nicht nur dein Bindegewebe\, sondern verbessert auch deine Koordination und kräftigt wichtige Muskelgruppen für den Alltag. Im Mittelpunkt steht dein allgemeines Wohlbefinden – für mehr Energie und Ausgeglichenheit.
URL:https://aqua-fit.org/kurs/aqua-fit-more-2-2/2026-04-30/
LOCATION:Sportzentrum Pachern\, Pachern Hauptstraße 94\, Hart bei Graz\, Steiermark\, 8075\, Österreich
CATEGORIES:Aqua Fit & More,Sportzentrum Pachern
ATTACH;FMTTYPE=image/png:https://aqua-fit.org/wp-content/uploads/2024/11/SP-more_512px.png
ORGANIZER;CN="Fa. Helena Cizerl%2C MA":MAILTO:info@aqua-fit.org
GEO:47.0447357;15.5208589
X-APPLE-STRUCTURED-LOCATION;VALUE=URI;X-ADDRESS=Sportzentrum Pachern Pachern Hauptstraße 94 Hart bei Graz Steiermark 8075 Österreich;X-APPLE-RADIUS=500;X-TITLE=Pachern Hauptstraße 94:geo:15.5208589,47.0447357
END:VEVENT
BEGIN:VEVENT
DTSTART;TZID=Europe/Vienna:20260507T180000
DTEND;TZID=Europe/Vienna:20260507T185000
DTSTAMP:20260426T054710
CREATED:20250731T101803Z
LAST-MODIFIED:20260303T125756Z
UID:10009566-1778176800-1778179800@aqua-fit.org
SUMMARY:Aqua Fit & More
DESCRIPTION:Aqua Fit & More – Fitness\, Spaß und Wohlbefinden im Wasser!\nDieses gelenkschonende und effektive Herz-Kreislauftraining stärkt nicht nur dein Bindegewebe\, sondern verbessert auch deine Koordination und kräftigt wichtige Muskelgruppen für den Alltag. Im Mittelpunkt steht dein allgemeines Wohlbefinden – für mehr Energie und Ausgeglichenheit.
URL:https://aqua-fit.org/kurs/aqua-fit-more-2-2/2026-05-07/
LOCATION:Sportzentrum Pachern\, Pachern Hauptstraße 94\, Hart bei Graz\, Steiermark\, 8075\, Österreich
CATEGORIES:Aqua Fit & More,Sportzentrum Pachern
ATTACH;FMTTYPE=image/png:https://aqua-fit.org/wp-content/uploads/2024/11/SP-more_512px.png
ORGANIZER;CN="Fa. Helena Cizerl%2C MA":MAILTO:info@aqua-fit.org
GEO:47.0447357;15.5208589
X-APPLE-STRUCTURED-LOCATION;VALUE=URI;X-ADDRESS=Sportzentrum Pachern Pachern Hauptstraße 94 Hart bei Graz Steiermark 8075 Österreich;X-APPLE-RADIUS=500;X-TITLE=Pachern Hauptstraße 94:geo:15.5208589,47.0447357
END:VEVENT
BEGIN:VEVENT
DTSTART;TZID=Europe/Vienna:20260521T180000
DTEND;TZID=Europe/Vienna:20260521T185000
DTSTAMP:20260426T054710
CREATED:20250731T101803Z
LAST-MODIFIED:20260303T125756Z
UID:10009567-1779386400-1779389400@aqua-fit.org
SUMMARY:Aqua Fit & More
DESCRIPTION:Aqua Fit & More – Fitness\, Spaß und Wohlbefinden im Wasser!\nDieses gelenkschonende und effektive Herz-Kreislauftraining stärkt nicht nur dein Bindegewebe\, sondern verbessert auch deine Koordination und kräftigt wichtige Muskelgruppen für den Alltag. Im Mittelpunkt steht dein allgemeines Wohlbefinden – für mehr Energie und Ausgeglichenheit.
URL:https://aqua-fit.org/kurs/aqua-fit-more-2-2/2026-05-21/
LOCATION:Sportzentrum Pachern\, Pachern Hauptstraße 94\, Hart bei Graz\, Steiermark\, 8075\, Österreich
CATEGORIES:Aqua Fit & More,Sportzentrum Pachern
ATTACH;FMTTYPE=image/png:https://aqua-fit.org/wp-content/uploads/2024/11/SP-more_512px.png
ORGANIZER;CN="Fa. Helena Cizerl%2C MA":MAILTO:info@aqua-fit.org
GEO:47.0447357;15.5208589
X-APPLE-STRUCTURED-LOCATION;VALUE=URI;X-ADDRESS=Sportzentrum Pachern Pachern Hauptstraße 94 Hart bei Graz Steiermark 8075 Österreich;X-APPLE-RADIUS=500;X-TITLE=Pachern Hauptstraße 94:geo:15.5208589,47.0447357
END:VEVENT
BEGIN:VEVENT
DTSTART;TZID=Europe/Vienna:20260528T180000
DTEND;TZID=Europe/Vienna:20260528T185000
DTSTAMP:20260426T054710
CREATED:20250731T101803Z
LAST-MODIFIED:20260303T125756Z
UID:10009568-1779991200-1779994200@aqua-fit.org
SUMMARY:Aqua Fit & More
DESCRIPTION:Aqua Fit & More – Fitness\, Spaß und Wohlbefinden im Wasser!\nDieses gelenkschonende und effektive Herz-Kreislauftraining stärkt nicht nur dein Bindegewebe\, sondern verbessert auch deine Koordination und kräftigt wichtige Muskelgruppen für den Alltag. Im Mittelpunkt steht dein allgemeines Wohlbefinden – für mehr Energie und Ausgeglichenheit.
URL:https://aqua-fit.org/kurs/aqua-fit-more-2-2/2026-05-28/
LOCATION:Sportzentrum Pachern\, Pachern Hauptstraße 94\, Hart bei Graz\, Steiermark\, 8075\, Österreich
CATEGORIES:Aqua Fit & More,Sportzentrum Pachern
ATTACH;FMTTYPE=image/png:https://aqua-fit.org/wp-content/uploads/2024/11/SP-more_512px.png
ORGANIZER;CN="Fa. Helena Cizerl%2C MA":MAILTO:info@aqua-fit.org
GEO:47.0447357;15.5208589
X-APPLE-STRUCTURED-LOCATION;VALUE=URI;X-ADDRESS=Sportzentrum Pachern Pachern Hauptstraße 94 Hart bei Graz Steiermark 8075 Österreich;X-APPLE-RADIUS=500;X-TITLE=Pachern Hauptstraße 94:geo:15.5208589,47.0447357
END:VEVENT
BEGIN:VEVENT
DTSTART;TZID=Europe/Vienna:20260611T180000
DTEND;TZID=Europe/Vienna:20260611T185000
DTSTAMP:20260426T054710
CREATED:20250731T101803Z
LAST-MODIFIED:20260303T125756Z
UID:10009569-1781200800-1781203800@aqua-fit.org
SUMMARY:Aqua Fit & More
DESCRIPTION:Aqua Fit & More – Fitness\, Spaß und Wohlbefinden im Wasser!\nDieses gelenkschonende und effektive Herz-Kreislauftraining stärkt nicht nur dein Bindegewebe\, sondern verbessert auch deine Koordination und kräftigt wichtige Muskelgruppen für den Alltag. Im Mittelpunkt steht dein allgemeines Wohlbefinden – für mehr Energie und Ausgeglichenheit.
URL:https://aqua-fit.org/kurs/aqua-fit-more-2-2/2026-06-11/
LOCATION:Sportzentrum Pachern\, Pachern Hauptstraße 94\, Hart bei Graz\, Steiermark\, 8075\, Österreich
CATEGORIES:Aqua Fit & More,Sportzentrum Pachern
ATTACH;FMTTYPE=image/png:https://aqua-fit.org/wp-content/uploads/2024/11/SP-more_512px.png
ORGANIZER;CN="Fa. Helena Cizerl%2C MA":MAILTO:info@aqua-fit.org
GEO:47.0447357;15.5208589
X-APPLE-STRUCTURED-LOCATION;VALUE=URI;X-ADDRESS=Sportzentrum Pachern Pachern Hauptstraße 94 Hart bei Graz Steiermark 8075 Österreich;X-APPLE-RADIUS=500;X-TITLE=Pachern Hauptstraße 94:geo:15.5208589,47.0447357
END:VEVENT
BEGIN:VEVENT
DTSTART;TZID=Europe/Vienna:20260618T180000
DTEND;TZID=Europe/Vienna:20260618T185000
DTSTAMP:20260426T054710
CREATED:20250731T101803Z
LAST-MODIFIED:20260303T125756Z
UID:10009570-1781805600-1781808600@aqua-fit.org
SUMMARY:Aqua Fit & More
DESCRIPTION:Aqua Fit & More – Fitness\, Spaß und Wohlbefinden im Wasser!\nDieses gelenkschonende und effektive Herz-Kreislauftraining stärkt nicht nur dein Bindegewebe\, sondern verbessert auch deine Koordination und kräftigt wichtige Muskelgruppen für den Alltag. Im Mittelpunkt steht dein allgemeines Wohlbefinden – für mehr Energie und Ausgeglichenheit.
URL:https://aqua-fit.org/kurs/aqua-fit-more-2-2/2026-06-18/
LOCATION:Sportzentrum Pachern\, Pachern Hauptstraße 94\, Hart bei Graz\, Steiermark\, 8075\, Österreich
CATEGORIES:Aqua Fit & More,Sportzentrum Pachern
ATTACH;FMTTYPE=image/png:https://aqua-fit.org/wp-content/uploads/2024/11/SP-more_512px.png
ORGANIZER;CN="Fa. Helena Cizerl%2C MA":MAILTO:info@aqua-fit.org
GEO:47.0447357;15.5208589
X-APPLE-STRUCTURED-LOCATION;VALUE=URI;X-ADDRESS=Sportzentrum Pachern Pachern Hauptstraße 94 Hart bei Graz Steiermark 8075 Österreich;X-APPLE-RADIUS=500;X-TITLE=Pachern Hauptstraße 94:geo:15.5208589,47.0447357
END:VEVENT
BEGIN:VEVENT
DTSTART;TZID=Europe/Vienna:20260625T180000
DTEND;TZID=Europe/Vienna:20260625T185000
DTSTAMP:20260426T054710
CREATED:20250731T101803Z
LAST-MODIFIED:20260303T125756Z
UID:10009571-1782410400-1782413400@aqua-fit.org
SUMMARY:Aqua Fit & More
DESCRIPTION:Aqua Fit & More – Fitness\, Spaß und Wohlbefinden im Wasser!\nDieses gelenkschonende und effektive Herz-Kreislauftraining stärkt nicht nur dein Bindegewebe\, sondern verbessert auch deine Koordination und kräftigt wichtige Muskelgruppen für den Alltag. Im Mittelpunkt steht dein allgemeines Wohlbefinden – für mehr Energie und Ausgeglichenheit.
URL:https://aqua-fit.org/kurs/aqua-fit-more-2-2/2026-06-25/
LOCATION:Sportzentrum Pachern\, Pachern Hauptstraße 94\, Hart bei Graz\, Steiermark\, 8075\, Österreich
CATEGORIES:Aqua Fit & More,Sportzentrum Pachern
ATTACH;FMTTYPE=image/png:https://aqua-fit.org/wp-content/uploads/2024/11/SP-more_512px.png
ORGANIZER;CN="Fa. Helena Cizerl%2C MA":MAILTO:info@aqua-fit.org
GEO:47.0447357;15.5208589
X-APPLE-STRUCTURED-LOCATION;VALUE=URI;X-ADDRESS=Sportzentrum Pachern Pachern Hauptstraße 94 Hart bei Graz Steiermark 8075 Österreich;X-APPLE-RADIUS=500;X-TITLE=Pachern Hauptstraße 94:geo:15.5208589,47.0447357
END:VEVENT
END:VCALENDAR