BEGIN:VCALENDAR
VERSION:2.0
PRODID:-//Aqua Fit - ECPv6.15.18//NONSGML v1.0//EN
CALSCALE:GREGORIAN
METHOD:PUBLISH
X-WR-CALNAME:Aqua Fit
X-ORIGINAL-URL:https://aqua-fit.org
X-WR-CALDESC:Veranstaltungen für Aqua Fit
REFRESH-INTERVAL;VALUE=DURATION:PT1H
X-Robots-Tag:noindex
X-PUBLISHED-TTL:PT1H
BEGIN:VTIMEZONE
TZID:Europe/Vienna
BEGIN:DAYLIGHT
TZOFFSETFROM:+0100
TZOFFSETTO:+0200
TZNAME:CEST
DTSTART:20250330T010000
END:DAYLIGHT
BEGIN:STANDARD
TZOFFSETFROM:+0200
TZOFFSETTO:+0100
TZNAME:CET
DTSTART:20251026T010000
END:STANDARD
BEGIN:DAYLIGHT
TZOFFSETFROM:+0100
TZOFFSETTO:+0200
TZNAME:CEST
DTSTART:20260329T010000
END:DAYLIGHT
BEGIN:STANDARD
TZOFFSETFROM:+0200
TZOFFSETTO:+0100
TZNAME:CET
DTSTART:20261025T010000
END:STANDARD
BEGIN:DAYLIGHT
TZOFFSETFROM:+0100
TZOFFSETTO:+0200
TZNAME:CEST
DTSTART:20270328T010000
END:DAYLIGHT
BEGIN:STANDARD
TZOFFSETFROM:+0200
TZOFFSETTO:+0100
TZNAME:CET
DTSTART:20271031T010000
END:STANDARD
END:VTIMEZONE
BEGIN:VEVENT
DTSTART;TZID=Europe/Vienna:20260508T193000
DTEND;TZID=Europe/Vienna:20260508T202000
DTSTAMP:20260426T005821
CREATED:20250731T085622Z
LAST-MODIFIED:20260302T174453Z
UID:10009445-1778268600-1778271600@aqua-fit.org
SUMMARY:AquaFIT BODY Shaping II
DESCRIPTION:Unser vielseitiges Intervalltraining im Wasser bietet dir eine sanfte und gleichzeitig effektive Möglichkeit\, Fett zu reduzieren und Muskeln zu stärken. \nSpüre die Leichtigkeit und den Spaß an der Bewegung – eine perfekte Mischung aus Kraft- und Ausdauertraining\, die nicht nur deine Laune hebt\, sondern auch deinen Körper formt!
URL:https://aqua-fit.org/kurs/aquafit-body-shaping-ii-2-2-2/2026-05-08/
LOCATION:Indoor Divecenter\, Premstätterstraße 1\, Seiersberg\, Steiermark\, 8054\, Österreich
CATEGORIES:Aqua Body Shaping II,Tauchturm Seiersberg,Tiefwasser
ATTACH;FMTTYPE=image/png:https://aqua-fit.org/wp-content/uploads/2024/11/TT-Body_Shape2_512px.png
ORGANIZER;CN="Fa. Helena Cizerl%2C MA":MAILTO:info@aqua-fit.org
GEO:47.008427;15.3994115
X-APPLE-STRUCTURED-LOCATION;VALUE=URI;X-ADDRESS=Indoor Divecenter Premstätterstraße 1 Seiersberg Steiermark 8054 Österreich;X-APPLE-RADIUS=500;X-TITLE=Premstätterstraße 1:geo:15.3994115,47.008427
END:VEVENT
BEGIN:VEVENT
DTSTART;TZID=Europe/Vienna:20260515T193000
DTEND;TZID=Europe/Vienna:20260515T202000
DTSTAMP:20260426T005821
CREATED:20250731T085622Z
LAST-MODIFIED:20260302T174453Z
UID:10009446-1778873400-1778876400@aqua-fit.org
SUMMARY:AquaFIT BODY Shaping II
DESCRIPTION:Unser vielseitiges Intervalltraining im Wasser bietet dir eine sanfte und gleichzeitig effektive Möglichkeit\, Fett zu reduzieren und Muskeln zu stärken. \nSpüre die Leichtigkeit und den Spaß an der Bewegung – eine perfekte Mischung aus Kraft- und Ausdauertraining\, die nicht nur deine Laune hebt\, sondern auch deinen Körper formt!
URL:https://aqua-fit.org/kurs/aquafit-body-shaping-ii-2-2-2/2026-05-15/
LOCATION:Indoor Divecenter\, Premstätterstraße 1\, Seiersberg\, Steiermark\, 8054\, Österreich
CATEGORIES:Aqua Body Shaping II,Tauchturm Seiersberg,Tiefwasser
ATTACH;FMTTYPE=image/png:https://aqua-fit.org/wp-content/uploads/2024/11/TT-Body_Shape2_512px.png
ORGANIZER;CN="Fa. Helena Cizerl%2C MA":MAILTO:info@aqua-fit.org
GEO:47.008427;15.3994115
X-APPLE-STRUCTURED-LOCATION;VALUE=URI;X-ADDRESS=Indoor Divecenter Premstätterstraße 1 Seiersberg Steiermark 8054 Österreich;X-APPLE-RADIUS=500;X-TITLE=Premstätterstraße 1:geo:15.3994115,47.008427
END:VEVENT
BEGIN:VEVENT
DTSTART;TZID=Europe/Vienna:20260522T193000
DTEND;TZID=Europe/Vienna:20260522T202000
DTSTAMP:20260426T005821
CREATED:20250731T085622Z
LAST-MODIFIED:20260302T174453Z
UID:10009447-1779478200-1779481200@aqua-fit.org
SUMMARY:AquaFIT BODY Shaping II
DESCRIPTION:Unser vielseitiges Intervalltraining im Wasser bietet dir eine sanfte und gleichzeitig effektive Möglichkeit\, Fett zu reduzieren und Muskeln zu stärken. \nSpüre die Leichtigkeit und den Spaß an der Bewegung – eine perfekte Mischung aus Kraft- und Ausdauertraining\, die nicht nur deine Laune hebt\, sondern auch deinen Körper formt!
URL:https://aqua-fit.org/kurs/aquafit-body-shaping-ii-2-2-2/2026-05-22/
LOCATION:Indoor Divecenter\, Premstätterstraße 1\, Seiersberg\, Steiermark\, 8054\, Österreich
CATEGORIES:Aqua Body Shaping II,Tauchturm Seiersberg,Tiefwasser
ATTACH;FMTTYPE=image/png:https://aqua-fit.org/wp-content/uploads/2024/11/TT-Body_Shape2_512px.png
ORGANIZER;CN="Fa. Helena Cizerl%2C MA":MAILTO:info@aqua-fit.org
GEO:47.008427;15.3994115
X-APPLE-STRUCTURED-LOCATION;VALUE=URI;X-ADDRESS=Indoor Divecenter Premstätterstraße 1 Seiersberg Steiermark 8054 Österreich;X-APPLE-RADIUS=500;X-TITLE=Premstätterstraße 1:geo:15.3994115,47.008427
END:VEVENT
BEGIN:VEVENT
DTSTART;TZID=Europe/Vienna:20260529T193000
DTEND;TZID=Europe/Vienna:20260529T202000
DTSTAMP:20260426T005821
CREATED:20250731T085622Z
LAST-MODIFIED:20260302T174453Z
UID:10009448-1780083000-1780086000@aqua-fit.org
SUMMARY:AquaFIT BODY Shaping II
DESCRIPTION:Unser vielseitiges Intervalltraining im Wasser bietet dir eine sanfte und gleichzeitig effektive Möglichkeit\, Fett zu reduzieren und Muskeln zu stärken. \nSpüre die Leichtigkeit und den Spaß an der Bewegung – eine perfekte Mischung aus Kraft- und Ausdauertraining\, die nicht nur deine Laune hebt\, sondern auch deinen Körper formt!
URL:https://aqua-fit.org/kurs/aquafit-body-shaping-ii-2-2-2/2026-05-29/
LOCATION:Indoor Divecenter\, Premstätterstraße 1\, Seiersberg\, Steiermark\, 8054\, Österreich
CATEGORIES:Aqua Body Shaping II,Tauchturm Seiersberg,Tiefwasser
ATTACH;FMTTYPE=image/png:https://aqua-fit.org/wp-content/uploads/2024/11/TT-Body_Shape2_512px.png
ORGANIZER;CN="Fa. Helena Cizerl%2C MA":MAILTO:info@aqua-fit.org
GEO:47.008427;15.3994115
X-APPLE-STRUCTURED-LOCATION;VALUE=URI;X-ADDRESS=Indoor Divecenter Premstätterstraße 1 Seiersberg Steiermark 8054 Österreich;X-APPLE-RADIUS=500;X-TITLE=Premstätterstraße 1:geo:15.3994115,47.008427
END:VEVENT
BEGIN:VEVENT
DTSTART;TZID=Europe/Vienna:20260605T193000
DTEND;TZID=Europe/Vienna:20260605T202000
DTSTAMP:20260426T005821
CREATED:20250731T085622Z
LAST-MODIFIED:20260302T174453Z
UID:10009449-1780687800-1780690800@aqua-fit.org
SUMMARY:AquaFIT BODY Shaping II
DESCRIPTION:Unser vielseitiges Intervalltraining im Wasser bietet dir eine sanfte und gleichzeitig effektive Möglichkeit\, Fett zu reduzieren und Muskeln zu stärken. \nSpüre die Leichtigkeit und den Spaß an der Bewegung – eine perfekte Mischung aus Kraft- und Ausdauertraining\, die nicht nur deine Laune hebt\, sondern auch deinen Körper formt!
URL:https://aqua-fit.org/kurs/aquafit-body-shaping-ii-2-2-2/2026-06-05/
LOCATION:Indoor Divecenter\, Premstätterstraße 1\, Seiersberg\, Steiermark\, 8054\, Österreich
CATEGORIES:Aqua Body Shaping II,Tauchturm Seiersberg,Tiefwasser
ATTACH;FMTTYPE=image/png:https://aqua-fit.org/wp-content/uploads/2024/11/TT-Body_Shape2_512px.png
ORGANIZER;CN="Fa. Helena Cizerl%2C MA":MAILTO:info@aqua-fit.org
GEO:47.008427;15.3994115
X-APPLE-STRUCTURED-LOCATION;VALUE=URI;X-ADDRESS=Indoor Divecenter Premstätterstraße 1 Seiersberg Steiermark 8054 Österreich;X-APPLE-RADIUS=500;X-TITLE=Premstätterstraße 1:geo:15.3994115,47.008427
END:VEVENT
BEGIN:VEVENT
DTSTART;TZID=Europe/Vienna:20260612T193000
DTEND;TZID=Europe/Vienna:20260612T202000
DTSTAMP:20260426T005821
CREATED:20250731T085622Z
LAST-MODIFIED:20260302T174453Z
UID:10009450-1781292600-1781295600@aqua-fit.org
SUMMARY:AquaFIT BODY Shaping II
DESCRIPTION:Unser vielseitiges Intervalltraining im Wasser bietet dir eine sanfte und gleichzeitig effektive Möglichkeit\, Fett zu reduzieren und Muskeln zu stärken. \nSpüre die Leichtigkeit und den Spaß an der Bewegung – eine perfekte Mischung aus Kraft- und Ausdauertraining\, die nicht nur deine Laune hebt\, sondern auch deinen Körper formt!
URL:https://aqua-fit.org/kurs/aquafit-body-shaping-ii-2-2-2/2026-06-12/
LOCATION:Indoor Divecenter\, Premstätterstraße 1\, Seiersberg\, Steiermark\, 8054\, Österreich
CATEGORIES:Aqua Body Shaping II,Tauchturm Seiersberg,Tiefwasser
ATTACH;FMTTYPE=image/png:https://aqua-fit.org/wp-content/uploads/2024/11/TT-Body_Shape2_512px.png
ORGANIZER;CN="Fa. Helena Cizerl%2C MA":MAILTO:info@aqua-fit.org
GEO:47.008427;15.3994115
X-APPLE-STRUCTURED-LOCATION;VALUE=URI;X-ADDRESS=Indoor Divecenter Premstätterstraße 1 Seiersberg Steiermark 8054 Österreich;X-APPLE-RADIUS=500;X-TITLE=Premstätterstraße 1:geo:15.3994115,47.008427
END:VEVENT
BEGIN:VEVENT
DTSTART;TZID=Europe/Vienna:20260619T193000
DTEND;TZID=Europe/Vienna:20260619T202000
DTSTAMP:20260426T005821
CREATED:20250731T085622Z
LAST-MODIFIED:20260302T174453Z
UID:10009451-1781897400-1781900400@aqua-fit.org
SUMMARY:AquaFIT BODY Shaping II
DESCRIPTION:Unser vielseitiges Intervalltraining im Wasser bietet dir eine sanfte und gleichzeitig effektive Möglichkeit\, Fett zu reduzieren und Muskeln zu stärken. \nSpüre die Leichtigkeit und den Spaß an der Bewegung – eine perfekte Mischung aus Kraft- und Ausdauertraining\, die nicht nur deine Laune hebt\, sondern auch deinen Körper formt!
URL:https://aqua-fit.org/kurs/aquafit-body-shaping-ii-2-2-2/2026-06-19/
LOCATION:Indoor Divecenter\, Premstätterstraße 1\, Seiersberg\, Steiermark\, 8054\, Österreich
CATEGORIES:Aqua Body Shaping II,Tauchturm Seiersberg,Tiefwasser
ATTACH;FMTTYPE=image/png:https://aqua-fit.org/wp-content/uploads/2024/11/TT-Body_Shape2_512px.png
ORGANIZER;CN="Fa. Helena Cizerl%2C MA":MAILTO:info@aqua-fit.org
GEO:47.008427;15.3994115
X-APPLE-STRUCTURED-LOCATION;VALUE=URI;X-ADDRESS=Indoor Divecenter Premstätterstraße 1 Seiersberg Steiermark 8054 Österreich;X-APPLE-RADIUS=500;X-TITLE=Premstätterstraße 1:geo:15.3994115,47.008427
END:VEVENT
BEGIN:VEVENT
DTSTART;TZID=Europe/Vienna:20260626T193000
DTEND;TZID=Europe/Vienna:20260626T202000
DTSTAMP:20260426T005821
CREATED:20250731T085622Z
LAST-MODIFIED:20260302T174453Z
UID:10009452-1782502200-1782505200@aqua-fit.org
SUMMARY:AquaFIT BODY Shaping II
DESCRIPTION:Unser vielseitiges Intervalltraining im Wasser bietet dir eine sanfte und gleichzeitig effektive Möglichkeit\, Fett zu reduzieren und Muskeln zu stärken. \nSpüre die Leichtigkeit und den Spaß an der Bewegung – eine perfekte Mischung aus Kraft- und Ausdauertraining\, die nicht nur deine Laune hebt\, sondern auch deinen Körper formt!
URL:https://aqua-fit.org/kurs/aquafit-body-shaping-ii-2-2-2/2026-06-26/
LOCATION:Indoor Divecenter\, Premstätterstraße 1\, Seiersberg\, Steiermark\, 8054\, Österreich
CATEGORIES:Aqua Body Shaping II,Tauchturm Seiersberg,Tiefwasser
ATTACH;FMTTYPE=image/png:https://aqua-fit.org/wp-content/uploads/2024/11/TT-Body_Shape2_512px.png
ORGANIZER;CN="Fa. Helena Cizerl%2C MA":MAILTO:info@aqua-fit.org
GEO:47.008427;15.3994115
X-APPLE-STRUCTURED-LOCATION;VALUE=URI;X-ADDRESS=Indoor Divecenter Premstätterstraße 1 Seiersberg Steiermark 8054 Österreich;X-APPLE-RADIUS=500;X-TITLE=Premstätterstraße 1:geo:15.3994115,47.008427
END:VEVENT
END:VCALENDAR